{
 "currentVersion": 11.4,
 "serviceDescription": "Service Description: Indiana\u2019s 2016-2020 hydro-flattened bare-earth Digital Elevation Model (DEM) data is derived from statewide QL2 Lidar Point Cloud data that follows the USGS 3DEP standards. This DEM, also known as a Digital Terrain Model (DTM), has an original pixel resolution (OPR) of 2.5 feet for 89 of 92 Indiana Counties funded by the USDA through the USGS BAA program. The three (3) remaining Indiana counties also participated in the USGS BAA 3DEP program through a partnership with IGIC. The OPR DEM data for these counties ranged from a 1-foot to 1-meter pixel size, depending on each county\u2019s preference. But regardless of the OPR DEM pixel size that was published, all of Indiana\u2019s 2016-2020 QL2 data meets the same 10 cm vertical and positional accuracy standards established by the USGS 3DEP program.",
 "name": "DynamicWebMercator/Indiana_2016_2020_DEM",
 "description": "Service Description: Indiana\u2019s 2016-2020 hydro-flattened bare-earth Digital Elevation Model (DEM) data is derived from statewide QL2 Lidar Point Cloud data that follows the USGS 3DEP standards. This DEM, also known as a Digital Terrain Model (DTM), has an original pixel resolution (OPR) of 2.5 feet for 89 of 92 Indiana Counties funded by the USDA through the USGS BAA program. The three (3) remaining Indiana counties also participated in the USGS BAA 3DEP program through a partnership with IGIC. The OPR DEM data for these counties ranged from a 1-foot to 1-meter pixel size, depending on each county\u2019s preference. But regardless of the OPR DEM pixel size that was published, all of Indiana\u2019s 2016-2020 QL2 data meets the same 10 cm vertical and positional accuracy standards established by the USGS 3DEP program.",
 "extent": {
  "xmin": -9815565.2012,
  "ymin": 4544989.514799444,
  "xmax": -9422445.566960732,
  "ymax": 5131889.794200003,
  "spatialReference": {
   "wkid": 102100,
   "latestWkid": 3857
  }
 },
 "initialExtent": {
  "xmin": -9815565.2012,
  "ymin": 4544989.514799444,
  "xmax": -9422445.566960732,
  "ymax": 5131889.794200003,
  "spatialReference": {
   "wkid": 102100,
   "latestWkid": 3857
  }
 },
 "fullExtent": {
  "xmin": -9815565.2012,
  "ymin": 4544989.514799444,
  "xmax": -9422445.566960732,
  "ymax": 5131889.794200003,
  "spatialReference": {
   "wkid": 102100,
   "latestWkid": 3857
  }
 },
 "sortableFields": "",
 "bandCount": 1,
 "pixelType": "F32",
 "minValues": [
  282.97665935754776
 ],
 "maxValues": [
  1256.9100288748746
 ],
 "meanValues": [
  827.0386014700382
 ],
 "stdvValues": [
  130.46261590697122
 ],
 "hasMultidimensions": false,
 "pixelSizeX": 0.30480060960121846,
 "pixelSizeY": 0.30480060960121935,
 "meanPixelSize": 0.3048006096012189,
 "datasetFormat": "AMD",
 "uncompressedSize": 9933845018880,
 "blockWidth": 2048,
 "blockHeight": 256,
 "compressionType": "None",
 "bandNames": [
  "Band_1"
 ],
 "allowCopy": true,
 "allowAnalysis": true,
 "itemAccess": false,
 "inspectionCapabilities": "",
 "noDataValue": -3.4028234663852886E38,
 "noDataValues": [
  -3.4028234663852886E38
 ],
 "minPixelSize": 0,
 "maxPixelSize": 0,
 "copyrightText": "Indiana Geographic Information Office Orthoimagery (IGIO)",
 "serviceDataType": "esriImageServiceDataTypeElevation",
 "serviceSourceType": "esriImageServiceSourceTypeMosaicDataset",
 "objectIdField": "OBJECTID",
 "fields": [
  {
   "name": "OBJECTID",
   "type": "esriFieldTypeOID",
   "alias": "OBJECTID",
   "domain": null
  },
  {
   "name": "Shape",
   "type": "esriFieldTypeGeometry",
   "alias": "Shape",
   "domain": null
  },
  {
   "name": "Name",
   "type": "esriFieldTypeString",
   "alias": "Name",
   "domain": null,
   "length": 200
  },
  {
   "name": "MinPS",
   "type": "esriFieldTypeDouble",
   "alias": "MinPS",
   "domain": null
  },
  {
   "name": "MaxPS",
   "type": "esriFieldTypeDouble",
   "alias": "MaxPS",
   "domain": null
  },
  {
   "name": "LowPS",
   "type": "esriFieldTypeDouble",
   "alias": "LowPS",
   "domain": null
  },
  {
   "name": "HighPS",
   "type": "esriFieldTypeDouble",
   "alias": "HighPS",
   "domain": null
  },
  {
   "name": "Category",
   "type": "esriFieldTypeInteger",
   "alias": "Category",
   "domain": {
    "type": "codedValue",
    "name": "MosaicCatalogItemCategoryDomain",
    "description": "Catalog item categories.",
    "codedValues": [
     {
      "name": "Unknown",
      "code": 0
     },
     {
      "name": "Primary",
      "code": 1
     },
     {
      "name": "Overview",
      "code": 2
     },
     {
      "name": "Unprocessed Overview",
      "code": 3
     },
     {
      "name": "Partial Overview",
      "code": 4
     },
     {
      "name": "Inactive",
      "code": 5
     },
     {
      "name": "Uploaded",
      "code": 253
     },
     {
      "name": "Incomplete",
      "code": 254
     },
     {
      "name": "Custom",
      "code": 255
     }
    ],
    "mergePolicy": "esriMPTDefaultValue",
    "splitPolicy": "esriSPTDefaultValue"
   }
  },
  {
   "name": "Tag",
   "type": "esriFieldTypeString",
   "alias": "Tag",
   "domain": null,
   "length": 100
  },
  {
   "name": "GroupName",
   "type": "esriFieldTypeString",
   "alias": "GroupName",
   "domain": null,
   "length": 100
  },
  {
   "name": "ProductName",
   "type": "esriFieldTypeString",
   "alias": "ProductName",
   "domain": null,
   "length": 100
  },
  {
   "name": "CenterX",
   "type": "esriFieldTypeDouble",
   "alias": "CenterX",
   "domain": null
  },
  {
   "name": "CenterY",
   "type": "esriFieldTypeDouble",
   "alias": "CenterY",
   "domain": null
  },
  {
   "name": "ZOrder",
   "type": "esriFieldTypeInteger",
   "alias": "ZOrder",
   "domain": null
  },
  {
   "name": "Image_Year",
   "type": "esriFieldTypeSmallInteger",
   "alias": "Image_Year",
   "domain": null
  },
  {
   "name": "County",
   "type": "esriFieldTypeString",
   "alias": "County",
   "domain": null,
   "length": 100
  },
  {
   "name": "Pixel_Size",
   "type": "esriFieldTypeString",
   "alias": "Pixel_Size",
   "domain": null,
   "length": 25
  },
  {
   "name": "Shape_Length",
   "type": "esriFieldTypeDouble",
   "alias": "Shape_Length",
   "domain": null
  },
  {
   "name": "Shape_Area",
   "type": "esriFieldTypeDouble",
   "alias": "Shape_Area",
   "domain": null
  }
 ],
 "capabilities": "Image,Metadata,Catalog,Mensuration",
 "defaultMosaicMethod": "Northwest",
 "allowedMosaicMethods": "NorthWest,Center,LockRaster,ByAttribute,Nadir,Viewpoint,Seamline,None",
 "sortField": "",
 "sortValue": null,
 "sortAscending": true,
 "mosaicOperator": "Blend",
 "maxDownloadSizeLimit": 2048,
 "defaultCompressionQuality": 10000,
 "defaultResamplingMethod": "Bilinear",
 "maxImageHeight": 30000,
 "maxImageWidth": 30000,
 "maxRecordCount": 1000,
 "maxDownloadImageCount": 20,
 "maxMosaicImageCount": 20,
 "allowRasterFunction": true,
 "rasterFunctionInfos": [
  {
   "name": "None",
   "description": "Make a Raster or Raster Dataset into a Function Raster Dataset.",
   "help": ""
  },
  {
   "name": "Indiana Shaded Relief",
   "description": "Indiana Shaded Relief",
   "help": ""
  },
  {
   "name": "GrayscaleHillshade",
   "description": "A raster function template.",
   "help": ""
  },
  {
   "name": "SlopeRGB",
   "description": "Slope displayed by an RGB Color Ramp",
   "help": ""
  },
  {
   "name": "SlopeDegrees",
   "description": "Slope in Degress (0-90)",
   "help": ""
  },
  {
   "name": "AspectRGB",
   "description": "Aspect using RGB values",
   "help": ""
  },
  {
   "name": "AspectNumericValues",
   "description": "A raster function template.",
   "help": ""
  }
 ],
 "rasterTypeInfos": [
  {
   "name": "Raster Dataset",
   "description": "Supports all ArcGIS Raster Datasets",
   "help": ""
  }
 ],
 "mensurationCapabilities": "Basic",
 "hasHistograms": true,
 "hasColormap": false,
 "hasRasterAttributeTable": false,
 "minScale": 0,
 "maxScale": 0,
 "exportTilesAllowed": false,
 "supportsStatistics": true,
 "supportsAdvancedQueries": true,
 "editFieldsInfo": null,
 "ownershipBasedAccessControlForRasters": null,
 "allowComputeTiePoints": false,
 "useStandardizedQueries": true,
 "advancedQueryCapabilities": {
  "useStandardizedQueries": true,
  "supportsStatistics": true,
  "supportsOrderBy": true,
  "supportsDistinct": true,
  "supportsPagination": true
 },
 "spatialReference": {
  "wkid": 102100,
  "latestWkid": 3857
 }
}
