{
 "currentVersion": 11.4,
 "serviceDescription": "Dewberry was selected in the Fall of 2023 to provide Hamilton County, Indiana digital, color orthoimagery services. The aerial imagery was collected by Aerodata on February 29, 2024 using a DMC III 27546 calibrated imagery sensor mounted in a fixed-wing aircraft equipped with Inertial Measurement Unit (IMU) and Airborne GPS. Aerial imagery was collected to support 3-inch orthoimagery to meet the National Mapping Accuracy Standard (NMAS) for 1\"=50' scale mapping. Ayres Associates performed aerial triangulation and orthorectification. Orthoimagery was rectified to a DEM surface created from the Lidar data acquired separately for this project. Dewberry collected surveyed ground control points that were used in the aerial triangulation process. All mapping products associated with this project are prepared and delivered in North American Datum 1983 (NAD83) 2011, Indiana State Plane Coordinate System, East Zone (EPSG 6459). 10 ground control points and 40 checkpoints were gathered for this collection. 92 lidar checkpoints, 61 NVA and 31 VVA, were used to test the vertical accuracy of the DEM used for orthorectification. The DEM was tested to meet ASPRS Positional Accuracy Standards for Digital Geospatial Data, Edition 2, Version 1.0 (2023) for a 10-cm RMSEv Vertical Accuracy Class. The tested vertical positional accuracy was found to be at 2.3 cm.",
 "name": "DynamicWebMercator/Indiana_County_Collect_2024_DEM",
 "description": "The RasterRendering service is a multi-tenant raster rendering provider.",
 "extent": {
  "xmin": -9603623.7397,
  "ymin": 4853233.103938835,
  "xmax": -9555221.402895328,
  "ymax": 4900863.685599998,
  "spatialReference": {
   "wkid": 102100,
   "latestWkid": 3857
  }
 },
 "initialExtent": {
  "xmin": -9603623.7397,
  "ymin": 4853233.103938835,
  "xmax": -9555221.402895328,
  "ymax": 4900863.685599998,
  "spatialReference": {
   "wkid": 102100,
   "latestWkid": 3857
  }
 },
 "fullExtent": {
  "xmin": -9603623.7397,
  "ymin": 4853233.103938835,
  "xmax": -9555221.402895328,
  "ymax": 4900863.685599998,
  "spatialReference": {
   "wkid": 102100,
   "latestWkid": 3857
  }
 },
 "sortableFields": "",
 "bandCount": 1,
 "pixelType": "F32",
 "minValues": [
  489.6984460949898
 ],
 "maxValues": [
  981.6704198718071
 ],
 "meanValues": [
  850.7959353215826
 ],
 "stdvValues": [
  51.65553109794876
 ],
 "hasMultidimensions": false,
 "pixelSizeX": 0.6096012192024317,
 "pixelSizeY": 0.6096012192024329,
 "meanPixelSize": 0.6096012192024323,
 "datasetFormat": "AMD",
 "uncompressedSize": 24815358400,
 "blockWidth": 2048,
 "blockHeight": 256,
 "compressionType": "None",
 "bandNames": [
  "Band_1"
 ],
 "allowCopy": true,
 "allowAnalysis": true,
 "itemAccess": false,
 "inspectionCapabilities": "",
 "minPixelSize": 0,
 "maxPixelSize": 0,
 "copyrightText": "null",
 "serviceDataType": "esriImageServiceDataTypeGeneric",
 "serviceSourceType": "esriImageServiceSourceTypeMosaicDataset",
 "objectIdField": "OBJECTID",
 "fields": [
  {
   "name": "OBJECTID",
   "type": "esriFieldTypeOID",
   "alias": "OBJECTID",
   "domain": null
  },
  {
   "name": "Shape",
   "type": "esriFieldTypeGeometry",
   "alias": "Shape",
   "domain": null
  },
  {
   "name": "Name",
   "type": "esriFieldTypeString",
   "alias": "Name",
   "domain": null,
   "length": 200
  },
  {
   "name": "MinPS",
   "type": "esriFieldTypeDouble",
   "alias": "MinPS",
   "domain": null
  },
  {
   "name": "MaxPS",
   "type": "esriFieldTypeDouble",
   "alias": "MaxPS",
   "domain": null
  },
  {
   "name": "LowPS",
   "type": "esriFieldTypeDouble",
   "alias": "LowPS",
   "domain": null
  },
  {
   "name": "HighPS",
   "type": "esriFieldTypeDouble",
   "alias": "HighPS",
   "domain": null
  },
  {
   "name": "Category",
   "type": "esriFieldTypeInteger",
   "alias": "Category",
   "domain": {
    "type": "codedValue",
    "name": "MosaicCatalogItemCategoryDomain",
    "description": "Catalog item categories.",
    "codedValues": [
     {
      "name": "Unknown",
      "code": 0
     },
     {
      "name": "Primary",
      "code": 1
     },
     {
      "name": "Overview",
      "code": 2
     },
     {
      "name": "Unprocessed Overview",
      "code": 3
     },
     {
      "name": "Partial Overview",
      "code": 4
     },
     {
      "name": "Inactive",
      "code": 5
     },
     {
      "name": "Uploaded",
      "code": 253
     },
     {
      "name": "Incomplete",
      "code": 254
     },
     {
      "name": "Custom",
      "code": 255
     }
    ],
    "mergePolicy": "esriMPTDefaultValue",
    "splitPolicy": "esriSPTDefaultValue"
   }
  },
  {
   "name": "Tag",
   "type": "esriFieldTypeString",
   "alias": "Tag",
   "domain": null,
   "length": 100
  },
  {
   "name": "GroupName",
   "type": "esriFieldTypeString",
   "alias": "GroupName",
   "domain": null,
   "length": 100
  },
  {
   "name": "ProductName",
   "type": "esriFieldTypeString",
   "alias": "ProductName",
   "domain": null,
   "length": 100
  },
  {
   "name": "CenterX",
   "type": "esriFieldTypeDouble",
   "alias": "CenterX",
   "domain": null
  },
  {
   "name": "CenterY",
   "type": "esriFieldTypeDouble",
   "alias": "CenterY",
   "domain": null
  },
  {
   "name": "ZOrder",
   "type": "esriFieldTypeInteger",
   "alias": "ZOrder",
   "domain": null
  },
  {
   "name": "Image_Year",
   "type": "esriFieldTypeSmallInteger",
   "alias": "Image_Year",
   "domain": null
  },
  {
   "name": "County",
   "type": "esriFieldTypeString",
   "alias": "County",
   "domain": null,
   "length": 100
  },
  {
   "name": "Pixel_Size",
   "type": "esriFieldTypeString",
   "alias": "Pixel_Size",
   "domain": null,
   "length": 25
  },
  {
   "name": "url_tif",
   "type": "esriFieldTypeString",
   "alias": "url_tif",
   "domain": null,
   "length": 254
  },
  {
   "name": "url_tfw",
   "type": "esriFieldTypeString",
   "alias": "url_tfw",
   "domain": null,
   "length": 254
  },
  {
   "name": "Shape_Length",
   "type": "esriFieldTypeDouble",
   "alias": "Shape_Length",
   "domain": null
  },
  {
   "name": "Shape_Area",
   "type": "esriFieldTypeDouble",
   "alias": "Shape_Area",
   "domain": null
  }
 ],
 "capabilities": "Image,Metadata,Catalog,Mensuration",
 "defaultMosaicMethod": "ByAttribute",
 "allowedMosaicMethods": "ByAttribute,NorthWest,Center,LockRaster,Nadir,Viewpoint,Seamline,None",
 "sortField": "MinPS",
 "sortValue": "",
 "sortAscending": true,
 "mosaicOperator": "First",
 "maxDownloadSizeLimit": 2048,
 "defaultCompressionQuality": 75,
 "defaultResamplingMethod": "Bilinear",
 "maxImageHeight": 4100,
 "maxImageWidth": 15000,
 "maxRecordCount": 1000,
 "maxDownloadImageCount": 20,
 "maxMosaicImageCount": 40,
 "allowRasterFunction": true,
 "rasterFunctionInfos": [
  {
   "name": "None",
   "description": "Make a Raster or Raster Dataset into a Function Raster Dataset.",
   "help": ""
  },
  {
   "name": "SlopeRGB",
   "description": "Slope displayed by an RGB Color Ramp",
   "help": ""
  },
  {
   "name": "AspectNumericValues",
   "description": "A raster function template.",
   "help": ""
  },
  {
   "name": "AspectRGB",
   "description": "Aspect using RGB values",
   "help": ""
  },
  {
   "name": "GrayscaleHillshade",
   "description": "A raster function template.",
   "help": ""
  },
  {
   "name": "Indiana Shaded Relief",
   "description": "Indiana Shaded Relief",
   "help": ""
  },
  {
   "name": "SlopeDegrees",
   "description": "Slope in Degress (0-90)",
   "help": ""
  },
  {
   "name": "Contour",
   "description": "Contour",
   "help": ""
  }
 ],
 "rasterTypeInfos": [
  {
   "name": "Raster Dataset",
   "description": "Supports all ArcGIS Raster Datasets",
   "help": ""
  }
 ],
 "mensurationCapabilities": "Basic",
 "hasHistograms": true,
 "hasColormap": false,
 "hasRasterAttributeTable": false,
 "minScale": 0,
 "maxScale": 0,
 "exportTilesAllowed": false,
 "supportsStatistics": true,
 "supportsAdvancedQueries": true,
 "editFieldsInfo": null,
 "ownershipBasedAccessControlForRasters": null,
 "allowComputeTiePoints": false,
 "useStandardizedQueries": true,
 "advancedQueryCapabilities": {
  "useStandardizedQueries": true,
  "supportsStatistics": true,
  "supportsOrderBy": true,
  "supportsDistinct": true,
  "supportsPagination": true
 },
 "spatialReference": {
  "wkid": 102100,
  "latestWkid": 3857
 }
}
