{
 "exportTilesAllowed": false,
 "resampling": true,
 "serviceDescription": "",
 "units": "esriMeters",
 "fullExtent": {
  "spatialReference": {
   "wkid": 3857
  },
  "ymax": 5132942.467799999,
  "xmax": -9436870.479965406,
  "ymin": 4546114.88334483,
  "xmin": -9807987.7774
 },
 "version": 1.0,
 "minScale": 4622324.434309,
 "maxScale": 564.248588,
 "minLOD": 7,
 "tileImageInfo": {
  "bandCount": 3,
  "compressionQuality": 75,
  "format": "MIXED"
 },
 "spatialReference": {
  "wkid": 3857
 },
 "initialExtent": {
  "spatialReference": {
   "wkid": 3857
  },
  "ymax": 5132942.467799999,
  "xmax": -9436870.479965406,
  "ymin": 4546114.88334483,
  "xmin": -9807987.7774
 },
 "tileBundlesPath": "./tile",
 "maxLOD": 20,
 "storageInfo": {
  "storageFormat": "esriMapCacheStorageModeCompactV2",
  "packetSize": 128
 },
 "name": "year2025v1",
 "tileInfo": {
  "dpi": 96,
  "cols": 256,
  "lods": [
   {
    "resolution": 156543.033928,
    "scale": 5.91657527591555E8,
    "level": 0
   },
   {
    "resolution": 78271.5169639999,
    "scale": 2.95828763795777E8,
    "level": 1
   },
   {
    "resolution": 39135.7584820001,
    "scale": 1.47914381897889E8,
    "level": 2
   },
   {
    "resolution": 19567.8792409999,
    "scale": 7.3957190948944E7,
    "level": 3
   },
   {
    "resolution": 9783.93962049996,
    "scale": 3.6978595474472E7,
    "level": 4
   },
   {
    "resolution": 4891.96981024998,
    "scale": 1.8489297737236E7,
    "level": 5
   },
   {
    "resolution": 2445.98490512499,
    "scale": 9244648.868618,
    "level": 6
   },
   {
    "resolution": 1222.99245256249,
    "scale": 4622324.434309,
    "level": 7
   },
   {
    "resolution": 611.49622628138,
    "scale": 2311162.217155,
    "level": 8
   },
   {
    "resolution": 305.748113140558,
    "scale": 1155581.108577,
    "level": 9
   },
   {
    "resolution": 152.874056570411,
    "scale": 577790.554289,
    "level": 10
   },
   {
    "resolution": 76.4370282850732,
    "scale": 288895.277144,
    "level": 11
   },
   {
    "resolution": 38.2185141425366,
    "scale": 144447.638572,
    "level": 12
   },
   {
    "resolution": 19.1092570712683,
    "scale": 72223.819286,
    "level": 13
   },
   {
    "resolution": 9.55462853563415,
    "scale": 36111.909643,
    "level": 14
   },
   {
    "resolution": 4.77731426794937,
    "scale": 18055.954822,
    "level": 15
   },
   {
    "resolution": 2.38865713397468,
    "scale": 9027.977411,
    "level": 16
   },
   {
    "resolution": 1.19432856685505,
    "scale": 4513.988705,
    "level": 17
   },
   {
    "resolution": 0.597164283559817,
    "scale": 2256.994353,
    "level": 18
   },
   {
    "resolution": 0.298582141647617,
    "scale": 1128.497176,
    "level": 19
   },
   {
    "resolution": 0.14929107082380833,
    "scale": 564.248588,
    "level": 20
   }
  ],
  "rows": 256,
  "origin": {
   "y": 2.0037508342787E7,
   "x": -2.0037508342787E7
  },
  "spatialReference": {
   "wkid": 3857
  },
  "format": "MIXED",
  "compressionQuality": 75,
  "bandCount": 3,
  "lercError": 0,
  "storageFormat": "esriMapCacheStorageModeCompactV2",
  "packetSize": 128
 },
 "currentVersion": 11.4,
 "mapName": "year2025v1",
 "singleFusedMapCache": true,
 "type": "MapServer",
 "supportedExtensions": "",
 "capabilities": "TilesOnly,Tilemap",
 "serviceItemId": ""
}
