{
 "exportTilesAllowed": false,
 "resampling": true,
 "serviceDescription": "",
 "units": "esriMeters",
 "fullExtent": {
  "spatialReference": {
   "cs": "pcs",
   "wkid": 102100
  },
  "ymax": 5132942.467799999,
  "xmax": -9436870.479965406,
  "ymin": 4546114.88334483,
  "xmin": -9807987.7774
 },
 "version": 1.0,
 "minScale": 5.91657527591555E8,
 "maxScale": 564.248588,
 "minLOD": 0,
 "tileImageInfo": {
  "bandCount": 3,
  "compressionQuality": 75,
  "format": "MIXED"
 },
 "spatialReference": {
  "latestWkid": 3857,
  "wkid": 102100
 },
 "initialExtent": {
  "spatialReference": {
   "cs": "pcs",
   "wkid": 102100
  },
  "ymax": 5132942.467799999,
  "xmax": -9436870.479965406,
  "ymin": 4546114.88334483,
  "xmin": -9807987.7774
 },
 "geoFullExtent": {
  "xmin": -88.16556084,
  "ymin": 37.76381905,
  "xmax": -84.69856697,
  "ymax": 41.81255601
 },
 "spatialReferenceDomain": {
  "xmin": -20037700,
  "ymin": -30241100,
  "xmax": 40444500,
  "ymax": 30241100
 },
 "geoInitialExtent": {
  "xmin": -88.34065246584423,
  "ymin": 37.5524166592895,
  "xmax": -84.4825286865492,
  "ymax": 42.02562972745654
 },
 "wmtsScaleFactor": 2.800000000000352E-4,
 "tileBundlesPath": "./tile",
 "maxLOD": 20,
 "storageInfo": {
  "storageFormat": "esriMapCacheStorageModeCompactV2",
  "packetSize": 128
 },
 "name": "IndianaCurrentImageryCachev2",
 "tileInfo": {
  "dpi": 96,
  "cols": 256,
  "lods": [
   {
    "resolution": 156543.03392800014,
    "scale": 5.91657527591555E8,
    "level": 0
   },
   {
    "resolution": 78271.51696399994,
    "scale": 2.95828763795777E8,
    "level": 1
   },
   {
    "resolution": 39135.75848200009,
    "scale": 1.47914381897889E8,
    "level": 2
   },
   {
    "resolution": 19567.87924099992,
    "scale": 7.3957190948944E7,
    "level": 3
   },
   {
    "resolution": 9783.93962049996,
    "scale": 3.6978595474472E7,
    "level": 4
   },
   {
    "resolution": 4891.96981024998,
    "scale": 1.8489297737236E7,
    "level": 5
   },
   {
    "resolution": 2445.98490512499,
    "scale": 9244648.868618,
    "level": 6
   },
   {
    "resolution": 1222.992452562495,
    "scale": 4622324.434309,
    "level": 7
   },
   {
    "resolution": 611.4962262813797,
    "scale": 2311162.217155,
    "level": 8
   },
   {
    "resolution": 305.74811314055756,
    "scale": 1155581.108577,
    "level": 9
   },
   {
    "resolution": 152.87405657041106,
    "scale": 577790.554289,
    "level": 10
   },
   {
    "resolution": 76.43702828507324,
    "scale": 288895.277144,
    "level": 11
   },
   {
    "resolution": 38.21851414253662,
    "scale": 144447.638572,
    "level": 12
   },
   {
    "resolution": 19.10925707126831,
    "scale": 72223.819286,
    "level": 13
   },
   {
    "resolution": 9.554628535634155,
    "scale": 36111.909643,
    "level": 14
   },
   {
    "resolution": 4.77731426794937,
    "scale": 18055.954822,
    "level": 15
   },
   {
    "resolution": 2.388657133974685,
    "scale": 9027.977411,
    "level": 16
   },
   {
    "resolution": 1.1943285668550503,
    "scale": 4513.988705,
    "level": 17
   },
   {
    "resolution": 0.5971642835598172,
    "scale": 2256.994353,
    "level": 18
   },
   {
    "resolution": 0.29858214164761665,
    "scale": 1128.497176,
    "level": 19
   },
   {
    "resolution": 0.14929107082380833,
    "scale": 564.248588,
    "level": 20
   },
   {
    "level": 21,
    "resolution": 0.07464553541190416,
    "scale": 282.124294
   },
   {
    "level": 22,
    "resolution": 0.03732276770595208,
    "scale": 141.062147
   },
   {
    "level": 23,
    "resolution": 0.01866138385297604,
    "scale": 70.5310735
   }
  ],
  "rows": 256,
  "origin": {
   "y": 30241100,
   "x": -20037700
  },
  "spatialReference": {
   "latestWkid": 3857,
   "wkid": 102100
  },
  "format": "MIXED",
  "compressionQuality": 75,
  "bandCount": 3,
  "lercError": 0,
  "storageFormat": "esriMapCacheStorageModeCompactV2",
  "packetSize": 128
 },
 "currentVersion": 11.4,
 "mapName": "IndianaCurrentImageryCachev2",
 "singleFusedMapCache": true,
 "type": "MapServer",
 "supportedExtensions": "",
 "capabilities": "TilesOnly,Tilemap",
 "serviceItemId": ""
}
