View In:
ArcGIS JavaScript
ArcGIS Online Map Viewer
ArcGIS Earth
Service Description: The Indiana 2005 digital elevation model was created from the 2005 Orthophotography of Indiana (color 1-ft and 6-in resolution) imagery that was collected during March and April leaf-off conditions at a minimum resolution of 1-foot statewide (the following 13 counties were collected at 6-inch, Dubois, Elkhart, Floyd, Hamilton, Kosciusko, Lake, LaPorte, Marion, Monroe, Perry, Steuben, Tippecanoe, Vanderburgh). Data are delivered in 4000'x4000 tiles' and converted to cloud-optimized GeoTIF (COG). The DEM files support the generation of orthophotos with the accuracy stated below. Access to Indiana Geographic Information Office Orthoimagery is governed by Creative Commons 0 (CC0):
Name: DynamicWebMercator/Indiana_2005_DEM
Description: The RasterRendering service is a multi-tenant raster rendering provider.
Single Fused Map Cache: false
Extent:
XMin: -9815162.3952
YMin: 4545379.907142313
XMax: -9422888.582652373
YMax: 5130258.748899996
Spatial Reference: 102100
(3857)
LatestVCSWkid(0)
Initial Extent:
XMin: -9815162.3952
YMin: 4545379.907142313
XMax: -9422888.582652373
YMax: 5130258.748899996
Spatial Reference: 102100
(3857)
LatestVCSWkid(0)
Full Extent:
XMin: -9815162.3952
YMin: 4545379.907142313
XMax: -9422888.582652373
YMax: 5130258.748899996
Spatial Reference: 102100
(3857)
LatestVCSWkid(0)
Pixel Size X: 1.5240030480060993
Pixel Size Y: 1.5240030480060949
Band Count: 1
Pixel Type: F32
RasterFunction Infos: {"rasterFunctionInfos": [
{
"name": "Indiana Shaded Relief",
"description": "Indiana Shaded Relief",
"help": ""
},
{
"name": "None",
"description": "Make a Raster or Raster Dataset into a Function Raster Dataset.",
"help": ""
},
{
"name": "GrayscaleHillshade",
"description": "A raster function template.",
"help": ""
},
{
"name": "SlopeRGB",
"description": "Slope displayed by an RGB Color Ramp",
"help": ""
},
{
"name": "SlopeDegrees",
"description": "Slope in Degress (0-90)",
"help": ""
},
{
"name": "AspectRGB",
"description": "Aspect using RGB values",
"help": ""
},
{
"name": "AspectNumericValues",
"description": "A raster function template.",
"help": ""
}
]}
Mensuration Capabilities: Basic
Inspection Capabilities:
Has Histograms: true
Has Colormap: false
Has Multi Dimensions : false
Rendering Rule:
Min Scale: 0
Max Scale: 0
Copyright Text: Indiana Geographic Information Office (IGIO)
Service Data Type: esriImageServiceDataTypeElevation
Min Values: 306.79629081487656
Max Values: 1253.8924604058266
Mean Values: 828.1842687006896
Standard Deviation Values: 130.27929819537934
Object ID Field: OBJECTID
Fields:
-
OBJECTID
(
type: esriFieldTypeOID, alias: OBJECTID
)
-
Shape
(
type: esriFieldTypeGeometry, alias: Shape
)
-
Name
(
type: esriFieldTypeString, alias: Name, length: 200
)
-
MinPS
(
type: esriFieldTypeDouble, alias: MinPS
)
-
MaxPS
(
type: esriFieldTypeDouble, alias: MaxPS
)
-
LowPS
(
type: esriFieldTypeDouble, alias: LowPS
)
-
HighPS
(
type: esriFieldTypeDouble, alias: HighPS
)
-
Category
(
type: esriFieldTypeInteger, alias: Category
, Coded Values:
[0: Unknown]
, [1: Primary]
, [2: Overview]
, ...6 more...
)
-
Tag
(
type: esriFieldTypeString, alias: Tag, length: 100
)
-
GroupName
(
type: esriFieldTypeString, alias: GroupName, length: 100
)
-
ProductName
(
type: esriFieldTypeString, alias: ProductName, length: 100
)
-
CenterX
(
type: esriFieldTypeDouble, alias: CenterX
)
-
CenterY
(
type: esriFieldTypeDouble, alias: CenterY
)
-
ZOrder
(
type: esriFieldTypeInteger, alias: ZOrder
)
-
Image_Year
(
type: esriFieldTypeSmallInteger, alias: Image_Year
)
-
County
(
type: esriFieldTypeString, alias: County, length: 100
)
-
Pixel_Size
(
type: esriFieldTypeString, alias: Pixel_Size, length: 25
)
-
Shape_Length
(
type: esriFieldTypeDouble, alias: Shape_Length
)
-
Shape_Area
(
type: esriFieldTypeDouble, alias: Shape_Area
)
Default Mosaic Method: Northwest
Allowed Mosaic Methods: NorthWest,Center,LockRaster,ByAttribute,Nadir,Viewpoint,Seamline,None
SortField:
SortValue: null
Mosaic Operator: First
Default Compression Quality: 75
Default Resampling Method: Bilinear
Max Record Count: 1000
Max Image Height: 4100
Max Image Width: 15000
Max Download Image Count: 20
Max Mosaic Image Count: 20
Allow Raster Function: true
Allow Copy: true
Allow Analysis: true
Allow Compute TiePoints: false
Supports Statistics: true
Supports Advanced Queries: true
Use StandardizedQueries: true
Raster Type Infos:
Name: Raster Dataset
Description: Supports all ArcGIS Raster Datasets
Help:
Has Raster Attribute Table: false
Edit Fields Info: null
Ownership Based AccessControl For Rasters: null
Child Resources:
Info
Histograms
Statistics
Key Properties
Legend
Raster Function Infos
Supported Operations:
Export Image
Query
Identify
Measure
Compute Histograms
Compute Statistics Histograms
Get Samples
Compute Class Statistics
Query GPS Info
Find Images
Image to Map
Map to Image
Measure from Image
Image to Map Multiray
Query Boundary
Compute Pixel Location
Compute Angles
Validate
Project
Calculate Volume