View In:
ArcGIS JavaScript
ArcGIS Online Map Viewer
ArcGIS Earth
Service Description: State of Indiana Current Orthophotography includes the years 2022 to 2025. The Indiana Orthoimagery Program collects and produces 4-band, 6-inch orthoimagery (with some areas at 3-inch resolution) on a 3-year cycle. Approximately one-third of the state is flown to develop streaming imagery services, 2,500' by 2,500' tiles. The dynamic imagery services contain color infrared and NDVI raster functions built into the services. Access to Indiana Geographic Information Office Orthoimagery is governed by Creative Commons 0 (CC0)
Name: DynamicWebMercator/Indiana_Current_Imagery
Description: State of Indiana Current Orthophotography includes the years 2022 to 2025. The Indiana Orthoimagery Program collects and produces 4-band, 6-inch orthoimagery (with some areas at 3-inch resolution) on a 3-year cycle. Approximately one-third of the state is flown to develop streaming imagery services, 2,500' by 2,500' tiles. The dynamic imagery services contain color infrared and NDVI raster functions built into the services. Access to Indiana Geographic Information Office Orthoimagery is governed by Creative Commons 0 (CC0)
Single Fused Map Cache: false
Extent:
XMin: -9823995.6497
YMin: 4543011.003853263
XMax: -9432544.874998452
YMax: 5135334.3719
Spatial Reference: 102100
(3857)
LatestVCSWkid(0)
Initial Extent:
XMin: -9823995.6497
YMin: 4543011.003853263
XMax: -9432544.874998452
YMax: 5135334.3719
Spatial Reference: 102100
(3857)
LatestVCSWkid(0)
Full Extent:
XMin: -9823995.6497
YMin: 4543011.003853263
XMax: -9432544.874998452
YMax: 5135334.3719
Spatial Reference: 102100
(3857)
LatestVCSWkid(0)
Pixel Size X: 0.07620015240030467
Pixel Size Y: 0.07620015240030484
Band Count: 4
Pixel Type: U8
RasterFunction Infos: {"rasterFunctionInfos": [
{
"name": "None",
"description": "Make a Raster or Raster Dataset into a Function Raster Dataset.",
"help": ""
},
{
"name": "Indiana_NearIR_RFT",
"description": "Indiana NearIR raster function template",
"help": ""
},
{
"name": "Indiana_NDVI_RPT2",
"description": "Indiana NDVI raster processing template",
"help": ""
}
]}
Mensuration Capabilities: Basic
Inspection Capabilities:
Has Histograms: true
Has Colormap: false
Has Multi Dimensions : false
Rendering Rule:
Min Scale: 0
Max Scale: 0
Copyright Text: Access to Indiana Geographic Information Office Orthoimagery is governed by Creative Commons 0 (CC0)
Service Data Type: esriImageServiceDataTypeGeneric
Min Values: 0, 0, 0, 0
Max Values: 255, 255, 255, 255
Mean Values: 104.8059473296954, 94.56688730486636, 78.92323160243737, 118.00976566984822
Standard Deviation Values: 32.66645107708213, 29.153405101912742, 24.8598338130507, 27.69037745058863
Object ID Field: OBJECTID
Fields:
-
OBJECTID
(
type: esriFieldTypeOID, alias: OBJECTID
)
-
Shape
(
type: esriFieldTypeGeometry, alias: Shape
)
-
Name
(
type: esriFieldTypeString, alias: Name, length: 200
)
-
MinPS
(
type: esriFieldTypeDouble, alias: MinPS
)
-
MaxPS
(
type: esriFieldTypeDouble, alias: MaxPS
)
-
LowPS
(
type: esriFieldTypeDouble, alias: LowPS
)
-
HighPS
(
type: esriFieldTypeDouble, alias: HighPS
)
-
Category
(
type: esriFieldTypeInteger, alias: Category
, Coded Values:
[0: Unknown]
, [1: Primary]
, [2: Overview]
, ...6 more...
)
-
Tag
(
type: esriFieldTypeString, alias: Tag, length: 100
)
-
GroupName
(
type: esriFieldTypeString, alias: GroupName, length: 100
)
-
ProductName
(
type: esriFieldTypeString, alias: ProductName, length: 100
)
-
CenterX
(
type: esriFieldTypeDouble, alias: CenterX
)
-
CenterY
(
type: esriFieldTypeDouble, alias: CenterY
)
-
ZOrder
(
type: esriFieldTypeInteger, alias: ZOrder
)
-
Image_Year
(
type: esriFieldTypeString, alias: Image_Year, length: 25
)
-
County
(
type: esriFieldTypeString, alias: County, length: 100
)
-
Pixel_Size
(
type: esriFieldTypeString, alias: Pixel_Size, length: 25
)
-
Shape_Length
(
type: esriFieldTypeDouble, alias: Shape_Length
)
-
Shape_Area
(
type: esriFieldTypeDouble, alias: Shape_Area
)
Default Mosaic Method: ByAttribute
Allowed Mosaic Methods: ByAttribute,NorthWest,Center,LockRaster,Nadir,Viewpoint,Seamline,None
SortField: ZOrder
SortValue:
Mosaic Operator: First
Default Compression Quality: 75
Default Resampling Method: Bilinear
Max Record Count: 1000
Max Image Height: 4100
Max Image Width: 15000
Max Download Image Count: 20
Max Mosaic Image Count: 20
Allow Raster Function: true
Allow Copy: true
Allow Analysis: true
Allow Compute TiePoints: false
Supports Statistics: true
Supports Advanced Queries: true
Use StandardizedQueries: true
Raster Type Infos:
Name: Raster Dataset
Description: Supports all ArcGIS Raster Datasets
Help:
Has Raster Attribute Table: false
Edit Fields Info: null
Ownership Based AccessControl For Rasters: null
Child Resources:
Info
Histograms
Statistics
Key Properties
Legend
Raster Function Infos
Supported Operations:
Export Image
Query
Identify
Measure
Compute Histograms
Compute Statistics Histograms
Get Samples
Compute Class Statistics
Query GPS Info
Find Images
Image to Map
Map to Image
Measure from Image
Image to Map Multiray
Query Boundary
Compute Pixel Location
Compute Angles
Validate
Project