View In:
ArcGIS JavaScript
ArcGIS Online Map Viewer
ArcGIS Earth
Service Description: Lake Michigan Rim DEM for years 2022 and 2024 contains hydro-flattened bare-earth Digital Elevation Model (DEM) data is derived from statewide QL1 Lidar Point Cloud data that follows the USGS 3DEP standards. This DEM, also known as a Digital Terrain Model (DTM), has an original pixel resolution (OPR) of 1 foot. The Lake Michigan Coastal Program provided the funding through the Indiana 2021 – 2024 Orthoimagery program. The QL1 data meets a 10 cm vertical and positional accuracy standard established by the USGS 3DEP program.
Name: DynamicWebMercator/Lake_Michigan_Rim_DEM
Description: The RasterRendering service is a multi-tenant raster rendering provider.
Single Fused Map Cache: false
Extent:
XMin: -9747915.1623
YMin: 5091931.369935687
XMax: -9653196.239262154
YMax: 5134563.5264
Spatial Reference: 102100
(3857)
LatestVCSWkid(0)
Initial Extent:
XMin: -9747915.1623
YMin: 5091931.369935687
XMax: -9653196.239262154
YMax: 5134563.5264
Spatial Reference: 102100
(3857)
LatestVCSWkid(0)
Full Extent:
XMin: -9747915.1623
YMin: 5091931.369935687
XMax: -9653196.239262154
YMax: 5134563.5264
Spatial Reference: 102100
(3857)
LatestVCSWkid(0)
Time Info:
Start Time Field: ESRI_Year
End Time Field: ESRI_Year
Time Extent:
[2022/02/01 00:00:00 UTC, 2024/02/01 00:00:00 UTC]
Time Reference:
N/A
Pixel Size X: 0.3048006096012178
Pixel Size Y: 0.30480060960122085
Band Count: 1
Pixel Type: F32
RasterFunction Infos: {"rasterFunctionInfos": [
{
"name": "Indiana Shaded Relief",
"description": "Indiana Shaded Relief",
"help": ""
},
{
"name": "None",
"description": "Make a Raster or Raster Dataset into a Function Raster Dataset.",
"help": ""
},
{
"name": "SlopeRGB",
"description": "Slope displayed by an RGB Color Ramp",
"help": ""
},
{
"name": "AspectNumericValues",
"description": "A raster function template.",
"help": ""
},
{
"name": "AspectRGB",
"description": "Aspect using RGB values",
"help": ""
},
{
"name": "GrayscaleHillshade",
"description": "A raster function template.",
"help": ""
},
{
"name": "SlopeDegrees",
"description": "Slope in Degress (0-90)",
"help": ""
}
]}
Mensuration Capabilities: Basic
Inspection Capabilities:
Has Histograms: true
Has Colormap: false
Has Multi Dimensions : false
Rendering Rule:
Min Scale: 0
Max Scale: 0
Copyright Text: null
Service Data Type: esriImageServiceDataTypeGeneric
Min Values: 1.5068559646606445
Max Values: 771.311711192131
Mean Values: 469.8774554008901
Standard Deviation Values: 243.1890269510575
Object ID Field: OBJECTID
Fields:
-
OBJECTID
(
type: esriFieldTypeOID, alias: OBJECTID
)
-
Shape
(
type: esriFieldTypeGeometry, alias: Shape
)
-
Name
(
type: esriFieldTypeString, alias: Name, length: 200
)
-
MinPS
(
type: esriFieldTypeDouble, alias: MinPS
)
-
MaxPS
(
type: esriFieldTypeDouble, alias: MaxPS
)
-
LowPS
(
type: esriFieldTypeDouble, alias: LowPS
)
-
HighPS
(
type: esriFieldTypeDouble, alias: HighPS
)
-
Category
(
type: esriFieldTypeInteger, alias: Category
, Coded Values:
[0: Unknown]
, [1: Primary]
, [2: Overview]
, ...6 more...
)
-
Tag
(
type: esriFieldTypeString, alias: Tag, length: 100
)
-
GroupName
(
type: esriFieldTypeString, alias: GroupName, length: 100
)
-
ProductName
(
type: esriFieldTypeString, alias: ProductName, length: 100
)
-
CenterX
(
type: esriFieldTypeDouble, alias: CenterX
)
-
CenterY
(
type: esriFieldTypeDouble, alias: CenterY
)
-
ZOrder
(
type: esriFieldTypeInteger, alias: ZOrder
)
-
Image_Year
(
type: esriFieldTypeSmallInteger, alias: Image_Year
)
-
Pixel_Size
(
type: esriFieldTypeString, alias: Pixel_Size, length: 25
)
-
ESRI_Year
(
type: esriFieldTypeDate, alias: ESRI_Year, length: 8
)
-
Shape_Length
(
type: esriFieldTypeDouble, alias: Shape_Length
)
-
Shape_Area
(
type: esriFieldTypeDouble, alias: Shape_Area
)
Default Mosaic Method: ByAttribute
Allowed Mosaic Methods: ByAttribute,NorthWest,Center,LockRaster,Nadir,Viewpoint,Seamline,None
SortField: ESRI_Year
SortValue: 2050/01/01
Mosaic Operator: First
Default Compression Quality: 75
Default Resampling Method: Bilinear
Max Record Count: 1000
Max Image Height: 4100
Max Image Width: 15000
Max Download Image Count: 20
Max Mosaic Image Count: 20
Allow Raster Function: true
Allow Copy: true
Allow Analysis: true
Allow Compute TiePoints: false
Supports Statistics: true
Supports Advanced Queries: true
Use StandardizedQueries: true
Raster Type Infos:
Name: Raster Dataset
Description: Supports all ArcGIS Raster Datasets
Help:
Has Raster Attribute Table: false
Edit Fields Info: null
Ownership Based AccessControl For Rasters: null
Child Resources:
Info
Histograms
Statistics
Key Properties
Legend
Raster Function Infos
Supported Operations:
Export Image
Query
Identify
Measure
Compute Histograms
Compute Statistics Histograms
Get Samples
Compute Class Statistics
Query GPS Info
Find Images
Image to Map
Map to Image
Measure from Image
Image to Map Multiray
Query Boundary
Compute Pixel Location
Compute Angles
Validate
Project