View In:
ArcGIS JavaScript
ArcGIS Online Map Viewer
ArcGIS Earth
Service Description: Indiana Imagery Collection - East Fork White River Spring 2025 Flood Event captures aerial imagery collected on April 8, 2025. This dataset was acquired during the third-highest recorded water levels for the East Fork of the White River, as indicated by river gauges. The flight lines covered areas between Brownstown and Seymour, Indiana, showcasing high-water conditions. The imagery was captured using the Leica DMC 4 model imaging sensor at a flight height of 10,000 feet, supporting a 3-inch resolution. Unlike traditional orthorectification methods, these images were georeferenced using the aircraft's onboard GPS and IMU systems, skipping the additional processing techniques, including Aerial Triangulation (AT). Therefore, the product does not meet any horizontal accuracy standards.
Name: Misc/JacksonCountyFlooding2025
Description: The RasterRendering service is a multi-tenant raster rendering provider.
Single Fused Map Cache: false
Extent:
XMin: -9587209.0147
YMin: 4704551.933313637
XMax: -9569651.204184378
YMax: 4724495.113399997
Spatial Reference: 102100
(3857)
LatestVCSWkid(0)
Initial Extent:
XMin: -9587209.0147
YMin: 4704551.933313637
XMax: -9569651.204184378
YMax: 4724495.113399997
Spatial Reference: 102100
(3857)
LatestVCSWkid(0)
Full Extent:
XMin: -9587209.0147
YMin: 4704551.933313637
XMax: -9569651.204184378
YMax: 4724495.113399997
Spatial Reference: 102100
(3857)
LatestVCSWkid(0)
Pixel Size X: 0.0762001524003076
Pixel Size Y: 0.07620015240030534
Band Count: 4
Pixel Type: U8
RasterFunction Infos: {"rasterFunctionInfos": [
{
"name": "None",
"description": "Make a Raster or Raster Dataset into a Function Raster Dataset.",
"help": ""
},
{
"name": "Indiana_NDVI_RPT2",
"description": "Indiana NDVI raster processing template",
"help": ""
},
{
"name": "Indiana_NearIR_RFT",
"description": "Indiana NearIR raster function template",
"help": ""
}
]}
Mensuration Capabilities: Basic
Inspection Capabilities:
Has Histograms: true
Has Colormap: false
Has Multi Dimensions : false
Rendering Rule:
Min Scale: 0
Max Scale: 0
Copyright Text: Access to this dataset is governed by Creative Commons 0 (CC0).
Service Data Type: esriImageServiceDataTypeGeneric
Min Values: 0, 0, 0, 0
Max Values: 254, 254, 254, 254
Mean Values: 92.54475254615649, 87.93630317222973, 78.22597485990845, 118.27745431479688
Standard Deviation Values: 24.52899434944922, 21.761877380374067, 19.04074902522073, 31.52245365655276
Object ID Field: OBJECTID
Fields:
-
OBJECTID
(
type: esriFieldTypeOID, alias: OBJECTID
)
-
Shape
(
type: esriFieldTypeGeometry, alias: Shape
)
-
Name
(
type: esriFieldTypeString, alias: Name, length: 200
)
-
MinPS
(
type: esriFieldTypeDouble, alias: MinPS
)
-
MaxPS
(
type: esriFieldTypeDouble, alias: MaxPS
)
-
LowPS
(
type: esriFieldTypeDouble, alias: LowPS
)
-
HighPS
(
type: esriFieldTypeDouble, alias: HighPS
)
-
Category
(
type: esriFieldTypeInteger, alias: Category
, Coded Values:
[0: Unknown]
, [1: Primary]
, [2: Overview]
, ...6 more...
)
-
Tag
(
type: esriFieldTypeString, alias: Tag, length: 100
)
-
GroupName
(
type: esriFieldTypeString, alias: GroupName, length: 100
)
-
ProductName
(
type: esriFieldTypeString, alias: ProductName, length: 100
)
-
CenterX
(
type: esriFieldTypeDouble, alias: CenterX
)
-
CenterY
(
type: esriFieldTypeDouble, alias: CenterY
)
-
ZOrder
(
type: esriFieldTypeInteger, alias: ZOrder
)
-
Shape_Length
(
type: esriFieldTypeDouble, alias: Shape_Length
)
-
Shape_Area
(
type: esriFieldTypeDouble, alias: Shape_Area
)
Default Mosaic Method: ByAttribute
Allowed Mosaic Methods: ByAttribute,NorthWest,Center,LockRaster,Nadir,Viewpoint,Seamline,None
SortField: MinPS
SortValue:
Mosaic Operator: First
Default Compression Quality: 75
Default Resampling Method: Bilinear
Max Record Count: 1000
Max Image Height: 4100
Max Image Width: 15000
Max Download Image Count: 20
Max Mosaic Image Count: 20
Allow Raster Function: true
Allow Copy: true
Allow Analysis: true
Allow Compute TiePoints: false
Supports Statistics: true
Supports Advanced Queries: true
Use StandardizedQueries: true
Raster Type Infos:
Name: Raster Dataset
Description: Supports all ArcGIS Raster Datasets
Help:
Has Raster Attribute Table: false
Edit Fields Info: null
Ownership Based AccessControl For Rasters: null
Child Resources:
Info
Histograms
Statistics
Key Properties
Legend
Raster Function Infos
Supported Operations:
Export Image
Query
Identify
Measure
Compute Histograms
Compute Statistics Histograms
Get Samples
Compute Class Statistics
Query GPS Info
Find Images
Image to Map
Map to Image
Measure from Image
Image to Map Multiray
Query Boundary
Compute Pixel Location
Compute Angles
Validate
Project