View In:
ArcGIS JavaScript
ArcGIS Online Map Viewer
ArcGIS Earth
Service Description: Service Description: Indiana’s 2016-2020 hydro-flattened bare-earth Digital Elevation Model (DEM) data is derived from statewide QL2 Lidar Point Cloud data that follows the USGS 3DEP standards. This DEM, also known as a Digital Terrain Model (DTM), has an original pixel resolution (OPR) of 2.5 feet for 89 of 92 Indiana Counties funded by the USDA through the USGS BAA program. The three (3) remaining Indiana counties also participated in the USGS BAA 3DEP program through a partnership with IGIC. The OPR DEM data for these counties ranged from a 1-foot to 1-meter pixel size, depending on each county’s preference. But regardless of the OPR DEM pixel size that was published, all of Indiana’s 2016-2020 QL2 data meets the same 10 cm vertical and positional accuracy standards established by the USGS 3DEP program.
Name: DynamicWebMercator/Indiana_2016_2020_DEM
Description: Service Description: Indiana’s 2016-2020 hydro-flattened bare-earth Digital Elevation Model (DEM) data is derived from statewide QL2 Lidar Point Cloud data that follows the USGS 3DEP standards. This DEM, also known as a Digital Terrain Model (DTM), has an original pixel resolution (OPR) of 2.5 feet for 89 of 92 Indiana Counties funded by the USDA through the USGS BAA program. The three (3) remaining Indiana counties also participated in the USGS BAA 3DEP program through a partnership with IGIC. The OPR DEM data for these counties ranged from a 1-foot to 1-meter pixel size, depending on each county’s preference. But regardless of the OPR DEM pixel size that was published, all of Indiana’s 2016-2020 QL2 data meets the same 10 cm vertical and positional accuracy standards established by the USGS 3DEP program.
Single Fused Map Cache: false
Extent:
XMin: -9815565.2012
YMin: 4544989.514799444
XMax: -9422445.566960732
YMax: 5131889.794200003
Spatial Reference: 102100
(3857)
LatestVCSWkid(0)
Initial Extent:
XMin: -9815565.2012
YMin: 4544989.514799444
XMax: -9422445.566960732
YMax: 5131889.794200003
Spatial Reference: 102100
(3857)
LatestVCSWkid(0)
Full Extent:
XMin: -9815565.2012
YMin: 4544989.514799444
XMax: -9422445.566960732
YMax: 5131889.794200003
Spatial Reference: 102100
(3857)
LatestVCSWkid(0)
Pixel Size X: 0.30480060960121846
Pixel Size Y: 0.30480060960121935
Band Count: 1
Pixel Type: F32
RasterFunction Infos: {"rasterFunctionInfos": [
{
"name": "None",
"description": "Make a Raster or Raster Dataset into a Function Raster Dataset.",
"help": ""
},
{
"name": "Indiana Shaded Relief",
"description": "Indiana Shaded Relief",
"help": ""
},
{
"name": "GrayscaleHillshade",
"description": "A raster function template.",
"help": ""
},
{
"name": "SlopeRGB",
"description": "Slope displayed by an RGB Color Ramp",
"help": ""
},
{
"name": "SlopeDegrees",
"description": "Slope in Degress (0-90)",
"help": ""
},
{
"name": "AspectRGB",
"description": "Aspect using RGB values",
"help": ""
},
{
"name": "AspectNumericValues",
"description": "A raster function template.",
"help": ""
}
]}
Mensuration Capabilities: Basic
Inspection Capabilities:
Has Histograms: true
Has Colormap: false
Has Multi Dimensions : false
Rendering Rule:
Min Scale: 0
Max Scale: 0
Copyright Text: Indiana Geographic Information Office Orthoimagery (IGIO)
Service Data Type: esriImageServiceDataTypeElevation
Min Values: 282.97665935754776
Max Values: 1256.9100288748746
Mean Values: 827.0386014700382
Standard Deviation Values: 130.46261590697122
Object ID Field: OBJECTID
Fields:
-
OBJECTID
(
type: esriFieldTypeOID, alias: OBJECTID
)
-
Shape
(
type: esriFieldTypeGeometry, alias: Shape
)
-
Name
(
type: esriFieldTypeString, alias: Name, length: 200
)
-
MinPS
(
type: esriFieldTypeDouble, alias: MinPS
)
-
MaxPS
(
type: esriFieldTypeDouble, alias: MaxPS
)
-
LowPS
(
type: esriFieldTypeDouble, alias: LowPS
)
-
HighPS
(
type: esriFieldTypeDouble, alias: HighPS
)
-
Category
(
type: esriFieldTypeInteger, alias: Category
, Coded Values:
[0: Unknown]
, [1: Primary]
, [2: Overview]
, ...6 more...
)
-
Tag
(
type: esriFieldTypeString, alias: Tag, length: 100
)
-
GroupName
(
type: esriFieldTypeString, alias: GroupName, length: 100
)
-
ProductName
(
type: esriFieldTypeString, alias: ProductName, length: 100
)
-
CenterX
(
type: esriFieldTypeDouble, alias: CenterX
)
-
CenterY
(
type: esriFieldTypeDouble, alias: CenterY
)
-
ZOrder
(
type: esriFieldTypeInteger, alias: ZOrder
)
-
Image_Year
(
type: esriFieldTypeSmallInteger, alias: Image_Year
)
-
County
(
type: esriFieldTypeString, alias: County, length: 100
)
-
Pixel_Size
(
type: esriFieldTypeString, alias: Pixel_Size, length: 25
)
-
Shape_Length
(
type: esriFieldTypeDouble, alias: Shape_Length
)
-
Shape_Area
(
type: esriFieldTypeDouble, alias: Shape_Area
)
Default Mosaic Method: Northwest
Allowed Mosaic Methods: NorthWest,Center,LockRaster,ByAttribute,Nadir,Viewpoint,Seamline,None
SortField:
SortValue: null
Mosaic Operator: Blend
Default Compression Quality: 10000
Default Resampling Method: Bilinear
Max Record Count: 1000
Max Image Height: 30000
Max Image Width: 30000
Max Download Image Count: 20
Max Mosaic Image Count: 20
Allow Raster Function: true
Allow Copy: true
Allow Analysis: true
Allow Compute TiePoints: false
Supports Statistics: true
Supports Advanced Queries: true
Use StandardizedQueries: true
Raster Type Infos:
Name: Raster Dataset
Description: Supports all ArcGIS Raster Datasets
Help:
Has Raster Attribute Table: false
Edit Fields Info: null
Ownership Based AccessControl For Rasters: null
Child Resources:
Info
Histograms
Statistics
Key Properties
Legend
Raster Function Infos
Supported Operations:
Export Image
Query
Identify
Measure
Compute Histograms
Compute Statistics Histograms
Get Samples
Compute Class Statistics
Query GPS Info
Find Images
Image to Map
Map to Image
Measure from Image
Image to Map Multiray
Query Boundary
Compute Pixel Location
Compute Angles
Validate
Project
Calculate Volume